BEGIN:VCALENDAR
VERSION:2.0
PRODID:-//Tukios.com/
BEGIN:VEVENT
UID:b2b3d3d5-2d29-424d-b201-a846b115d675@www.amsfuneralhomes.com
DTSTAMP:20260420T233411Z
DTSTART:20260523T140000Z
DTEND:20260523T200000Z
SUMMARY:Memorial Service
DESCRIPTION:
URL:https://www.amsfuneralhomes.com/obituaries/andrew-robins
LOCATION: 2251 Business Court  Kalamazoo MI 49008
GEO:42.2849878;-85.6178577
END:VEVENT
END:VCALENDAR