BEGIN:VCALENDAR
VERSION:2.0
PRODID:-//Tukios.com/
BEGIN:VEVENT
UID:9ed0d87d-cd73-47d4-8913-f2d91905171d@www.amsfuneralhomes.com
DTSTAMP:20260421T061431Z
DTSTART:20260424T143000Z
DTEND:20260424T153000Z
SUMMARY:Celebration of Life
DESCRIPTION:
URL:https://www.amsfuneralhomes.com/obituaries/mary-brooks
LOCATION:Kalamazoo First Presbyterian Church 321 West South Street  
	Kalamazoo MI 49007
GEO:42.2893799;-85.5865333
END:VEVENT
END:VCALENDAR