BEGIN:VCALENDAR
VERSION:2.0
PRODID:-//Tukios.com/
BEGIN:VEVENT
UID:63d9d287-d257-469e-a9ec-63cd51f09a6b@www.amsfuneralhomes.com
DTSTAMP:20260421T061155Z
DTSTART:20260424T173000Z
DTEND:20260424T183000Z
SUMMARY:Inurnment
DESCRIPTION:
URL:https://www.amsfuneralhomes.com/obituaries/mary-brooks
LOCATION:Fort Custer National Cemetery 15501 Dickman Road  Augusta MI 
	49012
GEO:42.3377624;-85.312713
END:VEVENT
END:VCALENDAR