BEGIN:VCALENDAR
VERSION:2.0
PRODID:-//Tukios.com/
BEGIN:VEVENT
UID:fca88577-cf98-421b-a83e-ea48996f2505@www.amsfuneralhomes.com
DTSTAMP:20260421T061609Z
DTSTART:20260424T133000Z
DTEND:20260424T143000Z
SUMMARY:Visitation
DESCRIPTION:
URL:https://www.amsfuneralhomes.com/obituaries/mary-brooks
LOCATION: 321 W South St  Kalamazoo MI 49007
GEO:42.2893799;-85.5865333
END:VEVENT
END:VCALENDAR