BEGIN:VCALENDAR
VERSION:2.0
PRODID:-//Tukios.com/
BEGIN:VEVENT
UID:92e5cc90-6ec5-4f0d-9022-af31b9327725@www.amsfuneralhomes.com
DTSTAMP:20260421T231626Z
DTSTART:20260511T160000Z
DTEND:20260511T170000Z
SUMMARY:Graveside Service
DESCRIPTION:
URL:https://www.amsfuneralhomes.com/obituaries/ronald-prosser
LOCATION:Vicksburg Cemetery W Avenue  Vicksburg MI 49097
GEO:42.1200456;-85.532775
END:VEVENT
END:VCALENDAR