BEGIN:VCALENDAR
VERSION:2.0
PRODID:-//Tukios.com/
BEGIN:VEVENT
UID:304c0757-5500-40b0-8c61-6229b7725d50@www.amsfuneralhomes.com
DTSTAMP:20260420T231223Z
DTSTART:20260430T200000Z
DTEND:20260430T230000Z
SUMMARY:Visitation
DESCRIPTION:
URL:https://www.amsfuneralhomes.com/obituaries/thomas-swiat-jr
LOCATION:Avink, McCowen & Secord Funeral Home and Cremation Society 409 
	South Main Street  Vicksburg MI 49097
GEO:42.1161188;-85.5320392
END:VEVENT
END:VCALENDAR