BEGIN:VCALENDAR
VERSION:2.0
PRODID:-//Tukios.com/
BEGIN:VEVENT
UID:fd082519-228e-450c-b479-cf4e104e13e9@www.amsfuneralhomes.com
DTSTAMP:20260420T230933Z
DTSTART:20260501T140000Z
DTEND:20260501T150000Z
SUMMARY:Visitation
DESCRIPTION:
URL:https://www.amsfuneralhomes.com/obituaries/thomas-swiat-jr
LOCATION:St. Martin of Tours Catholic Church 5855 East W Ave  Vicksburg 
	MI 49097
GEO:42.115282;-85.5135769
END:VEVENT
END:VCALENDAR