BEGIN:VCALENDAR
VERSION:2.0
PRODID:-//Tukios.com/
BEGIN:VEVENT
UID:b154b7d1-e712-47d5-bd65-e18d4df83087@www.amsfuneralhomes.com
DTSTAMP:20260420T231311Z
DTSTART:20260501T150000Z
DTEND:20260501T160000Z
SUMMARY:Mass
DESCRIPTION:
URL:https://www.amsfuneralhomes.com/obituaries/thomas-swiat-jr
LOCATION:St. Martin of Tours Catholic Church 5855 East W Ave  Vicksburg 
	MI 49097
GEO:42.115282;-85.5135769
END:VEVENT
END:VCALENDAR